BEGIN:VCALENDAR
VERSION:2.0
PRODID:-//Plone.org//NONSGML plone.app.event//EN
X-WR-TIMEZONE:Europe/Berlin
BEGIN:VEVENT
SUMMARY:Online-Diskussionsreihe „Kommunalwahlen und Halbzeitbilanz der R
 egierung Bolsonaro“
DTSTART;TZID=Europe/Berlin;VALUE=DATE-TIME:20210226T160000
DTEND;TZID=Europe/Berlin;VALUE=DATE-TIME:20210416T180000
DTSTAMP;VALUE=DATE-TIME:20260422T192657Z
UID:2b5ca09f44ec4c3ca522602d772662f3@app-03.tuxwerk.de:8080
CONTACT:https://www.iai.spk-berlin.de/no_cache/veranstaltungen/veranstaltu
 ngsprogramm.html
CREATED;VALUE=DATE-TIME:20210222T112730Z
DESCRIPTION:Das Ibero-Amerikanischen Institut lädt gemeinsam mit der Univ
 ersidade de São Paulo zur Online-Disskussionsreihe ein. Alle Veranstaltun
 gen sind in englischer Sprache:\nThe 2020 municipal elections in Brazil we
 re a first test for the Bolsonaro government\, which has radically changed
  course in many policy areas since taking office in early 2019. In six pan
 els\, the series brings together scholars from Brazil and Europe to discus
 s the election results in the context of the Brazilian political system\, 
 and to draw a balance of the first two years of government under President
  Bolsonaro.
LAST-MODIFIED;VALUE=DATE-TIME:20210222T112841Z
URL:https://www.kooperation-brasilien.org/de/veranstaltungen/termine/onlin
 e-diskussionsreihe-kommunalwahlen-und-halbzeitbilanz-der-regierung-bolsona
 ro
END:VEVENT
BEGIN:VTIMEZONE
TZID:Europe/Berlin
X-LIC-LOCATION:Europe/Berlin
BEGIN:STANDARD
DTSTART;VALUE=DATE-TIME:20201025T020000
TZNAME:CET
TZOFFSETFROM:+0200
TZOFFSETTO:+0100
END:STANDARD
BEGIN:DAYLIGHT
DTSTART;VALUE=DATE-TIME:20210328T030000
TZNAME:CEST
TZOFFSETFROM:+0100
TZOFFSETTO:+0200
END:DAYLIGHT
END:VTIMEZONE
END:VCALENDAR
