BEGIN:VCALENDAR
VERSION:2.0
PRODID:-//Plone.org//NONSGML plone.app.event//EN
X-WR-TIMEZONE:Europe/Berlin
BEGIN:VEVENT
SUMMARY:Online-Diskussion: Atualidades e Perspecitvas dos Jovens nas Comun
 idades do Brasil
DTSTART;TZID=Europe/Berlin;VALUE=DATE-TIME:20250630T200000
DTSTAMP;VALUE=DATE-TIME:20260423T170736Z
UID:bb2c8a195a7a432ca15dbc3df6d1b503@app-03.tuxwerk.de:8080
CONTACT:https://www.youtube.com/live/xdccK7kaCNQ?si=CwtwR5-IrrXfN2Zu
CREATED;VALUE=DATE-TIME:20250624T073215Z
DESCRIPTION:Im Rahmen des VII Colóquio Internacional Povos e Comunidades 
 Tradicionais
LAST-MODIFIED;VALUE=DATE-TIME:20250922T093643Z
URL:https://www.kooperation-brasilien.org/de/veranstaltungen/termine/onlin
 e-diskussion-vii-coloquio-internacional-povos-e-comunidades-tradicionais
END:VEVENT
BEGIN:VTIMEZONE
TZID:Europe/Berlin
X-LIC-LOCATION:Europe/Berlin
BEGIN:DAYLIGHT
DTSTART;VALUE=DATE-TIME:20250330T030000
TZNAME:CEST
TZOFFSETFROM:+0100
TZOFFSETTO:+0200
END:DAYLIGHT
END:VTIMEZONE
END:VCALENDAR
