BEGIN:VCALENDAR
VERSION:2.0
PRODID:-//Plone.org//NONSGML plone.app.event//EN
X-WR-TIMEZONE:Europe/Berlin
BEGIN:VEVENT
SUMMARY:Olympische Spiele in Brasilien - Die Kehrseite der Medaille
DTSTART;TZID=Europe/Berlin;VALUE=DATE-TIME:20160420T233000
DTEND;TZID=Europe/Berlin;VALUE=DATE-TIME:20160421T010000
DTSTAMP;VALUE=DATE-TIME:20260422T104617Z
UID:cf14870e07e21ac98151170d7a76d0b9@app-03.tuxwerk.de:8080
CONTACT:Heinrich-Böll-Stiftung\, +49(0)285 34 -327\, ziesche@boell.de
CREATED;VALUE=DATE-TIME:20200429T183033Z
DESCRIPTION:Podiumsdiskussion
LAST-MODIFIED;VALUE=DATE-TIME:20200429T183033Z
LOCATION:Berlin
URL:https://www.kooperation-brasilien.org/de/veranstaltungen/termine/olymp
 ische-spiele-in-brasilien-die-kehrseite-der-medaille
END:VEVENT
BEGIN:VTIMEZONE
TZID:Europe/Berlin
X-LIC-LOCATION:Europe/Berlin
BEGIN:DAYLIGHT
DTSTART;VALUE=DATE-TIME:20160327T030000
TZNAME:CEST
TZOFFSETFROM:+0100
TZOFFSETTO:+0200
END:DAYLIGHT
END:VTIMEZONE
END:VCALENDAR
