BEGIN:VCALENDAR
VERSION:2.0
PRODID:-//Plone.org//NONSGML plone.app.event//EN
X-WR-TIMEZONE:Europe/Berlin
BEGIN:VEVENT
SUMMARY:Nunca mais?! Feministische Strategien gegen die extreme Rechte in 
 Brasilien
DTSTART;TZID=Europe/Berlin;VALUE=DATE-TIME:20240919T193000
DTSTAMP;VALUE=DATE-TIME:20260424T211628Z
UID:a1e3879f38b14e62bef4d555b8d36a74@app-03.tuxwerk.de:8080
CREATED;VALUE=DATE-TIME:20240911T094945Z
DESCRIPTION:Präsenz-Veranstaltung mit konsekutiver Übersetzung DE-PT und
  PT-DE. Die Teilnahme ist kostenlos.\nEvento presencial com tradução con
 secutiva DE-PT e PT-DE. A participação é gratuita.\nMit Amelinha Teles
LAST-MODIFIED;VALUE=DATE-TIME:20240911T095000Z
LOCATION:Sala de reuniões Mehringhof\, Gneisenaustr. 2a\, 3.ª escada\, 1
 .º andar\, 10961 Berlim // Versammlungsraum Mehringhof\, Gneisenaustr. 2a
 \, 3. Aufgang\, 1. Stock\, 10961 Berlin
URL:https://www.kooperation-brasilien.org/de/veranstaltungen/termine/nunca
 -mais-feministische-strategien-gegen-die-extreme-rechte-in-brasilien
END:VEVENT
BEGIN:VTIMEZONE
TZID:Europe/Berlin
X-LIC-LOCATION:Europe/Berlin
BEGIN:DAYLIGHT
DTSTART;VALUE=DATE-TIME:20240331T030000
TZNAME:CEST
TZOFFSETFROM:+0100
TZOFFSETTO:+0200
END:DAYLIGHT
END:VTIMEZONE
END:VCALENDAR
