BEGIN:VCALENDAR
VERSION:2.0
PRODID:-//Plone.org//NONSGML plone.app.event//EN
X-WR-TIMEZONE:Europe/Berlin
BEGIN:VEVENT
SUMMARY:Niemandes Boden - o chão de ninguém
DTSTART;TZID=Europe/Berlin;VALUE=DATE-TIME:20221027T180000
DTSTAMP;VALUE=DATE-TIME:20260420T110337Z
UID:84c4eaa84da147cebb881791db114e7c@app-03.tuxwerk.de:8080
RRULE:FREQ=DAILY;COUNT=3
CONTACT:https://gabrielcarneiroarts.wixsite.com/works
CREATED;VALUE=DATE-TIME:20221021T105532Z
DESCRIPTION:Bergbau endet nie\, er wechselt nur seine Standorte.\n\nDen br
 asilianischen Bundesstaat Minas Gerais und das Ruhrgebiet verbindet der Be
 rgbau — als Vergangenheit\, Gegenwart und Zukunft. Während im Ruhrgebie
 t ehemalige Zechen und Kokereien zu Kulturstätten erklärt wurden\, zerst
 ört der Bergbau in Minas Gerais weiterhin Leben und Raum. Zwischen zwei L
 ebenswelten stehend\, setzt sich Gabriel Carneiro in seiner Performance un
 d Installation mit der aktuellen und zukünftigen Situation beider Gebiete
  auseinander.
LAST-MODIFIED;VALUE=DATE-TIME:20221102T143501Z
LOCATION:Blue Square Bochum (Kortumstraße 90)
URL:https://www.kooperation-brasilien.org/de/veranstaltungen/termine/niema
 ndes-boden-o-chao-de-ninguem
END:VEVENT
BEGIN:VTIMEZONE
TZID:Europe/Berlin
X-LIC-LOCATION:Europe/Berlin
BEGIN:DAYLIGHT
DTSTART;VALUE=DATE-TIME:20220327T030000
TZNAME:CEST
TZOFFSETFROM:+0100
TZOFFSETTO:+0200
END:DAYLIGHT
END:VTIMEZONE
END:VCALENDAR
