BEGIN:VCALENDAR
VERSION:2.0
PRODID:-//Plone.org//NONSGML plone.app.event//EN
X-WR-TIMEZONE:Europe/Berlin
BEGIN:VEVENT
SUMMARY:Mitgliederversammlung 2020
DTSTART;TZID=Europe/Berlin;VALUE=DATE-TIME:20201017T150000
DTEND;TZID=Europe/Berlin;VALUE=DATE-TIME:20201017T180000
DTSTAMP;VALUE=DATE-TIME:20260420T201932Z
UID:3c69341b269541828069dae68b4f7386@app-03.tuxwerk.de:8080
CREATED;VALUE=DATE-TIME:20200917T104432Z
DESCRIPTION:Die Mitgliederversammlung von KoBra findet am Samstag\, den 17
 . Oktober 2020 von 15 bis ca. 18 Uhr statt. Coronabedingt dieses mal virtu
 ell. Bitte meldet euch bis zum 01. Oktober 2020 mit einer E-Mail an info[a
 t]kooperation-brasilien.org an. (Betreff: Anmeldung MV)
LAST-MODIFIED;VALUE=DATE-TIME:20201216T114330Z
URL:https://www.kooperation-brasilien.org/de/veranstaltungen/termine/mitgl
 iederversammlung-2020
END:VEVENT
BEGIN:VTIMEZONE
TZID:Europe/Berlin
X-LIC-LOCATION:Europe/Berlin
BEGIN:DAYLIGHT
DTSTART;VALUE=DATE-TIME:20200329T030000
TZNAME:CEST
TZOFFSETFROM:+0100
TZOFFSETTO:+0200
END:DAYLIGHT
END:VTIMEZONE
END:VCALENDAR
