BEGIN:VCALENDAR
VERSION:2.0
PRODID:-//Plone.org//NONSGML plone.app.event//EN
X-WR-TIMEZONE:Europe/Berlin
BEGIN:VEVENT
SUMMARY:Mit Straßenfußball gegen Gewalt und für den Frieden
DTSTART;TZID=Europe/Berlin;VALUE=DATE-TIME:20191105T203000
DTEND;TZID=Europe/Berlin;VALUE=DATE-TIME:20191105T223000
DTSTAMP;VALUE=DATE-TIME:20260423T155841Z
UID:c0ba2f2f3512d66b7c8884c266ab20cc@app-03.tuxwerk.de:8080
CREATED;VALUE=DATE-TIME:20200429T183012Z
DESCRIPTION:Ein Gespräch mit der brasilianischen Straßenfußballerin Mar
 iana Andrade Fausto
LAST-MODIFIED;VALUE=DATE-TIME:20200429T183012Z
LOCATION:Stuttgart
URL:https://www.kooperation-brasilien.org/de/veranstaltungen/termine/mit-s
 trassenfussball-gegen-gewalt-und-fuer-den-frieden
END:VEVENT
BEGIN:VTIMEZONE
TZID:Europe/Berlin
X-LIC-LOCATION:Europe/Berlin
BEGIN:STANDARD
DTSTART;VALUE=DATE-TIME:20191027T020000
TZNAME:CET
TZOFFSETFROM:+0200
TZOFFSETTO:+0100
END:STANDARD
END:VTIMEZONE
END:VCALENDAR
