BEGIN:VCALENDAR
VERSION:2.0
PRODID:-//Plone.org//NONSGML plone.app.event//EN
X-WR-TIMEZONE:Europe/Berlin
BEGIN:VEVENT
SUMMARY:Mercosur-Freihandel - Menschenrechte und Klimaschutz nur\, wenn es
  die Geschäfte nicht stört?
DTSTART;TZID=Europe/Berlin;VALUE=DATE-TIME:20231123T190000
DTSTAMP;VALUE=DATE-TIME:20260425T161058Z
UID:578afdbe5f114599a82f79a56566f819@app-03.tuxwerk.de:8080
CATEGORIES:EU-Mercosur
CREATED;VALUE=DATE-TIME:20231030T082736Z
DESCRIPTION:Veranstaltung mit Ludwig Essig\, Eintritt frei
LAST-MODIFIED;VALUE=DATE-TIME:20231130T102157Z
LOCATION:Welthaus - Charlottenplatz 17\, 70173 Stuttgart
URL:https://www.kooperation-brasilien.org/de/veranstaltungen/termine/merco
 sur-freihandel-menschenrechte-und-klimaschutz-nur-wenn-es-die-geschaefte-n
 icht-stoert
END:VEVENT
BEGIN:VTIMEZONE
TZID:Europe/Berlin
X-LIC-LOCATION:Europe/Berlin
BEGIN:STANDARD
DTSTART;VALUE=DATE-TIME:20231029T020000
TZNAME:CET
TZOFFSETFROM:+0200
TZOFFSETTO:+0100
END:STANDARD
END:VTIMEZONE
END:VCALENDAR
