BEGIN:VCALENDAR
VERSION:2.0
PRODID:-//Plone.org//NONSGML plone.app.event//EN
X-WR-TIMEZONE:Europe/Berlin
BEGIN:VEVENT
SUMMARY:+++ FÄLLT LEIDER AUS +++ Memoria e Verdade - Erinnerung und Wahrh
 eit
DTSTART;TZID=Europe/Berlin;VALUE=DATE-TIME:20140905T233000
DTEND;TZID=Europe/Berlin;VALUE=DATE-TIME:20140906T013000
DTSTAMP;VALUE=DATE-TIME:20260425T222737Z
UID:1bce649e156b9af05da7d2126c6d4fa2@app-03.tuxwerk.de:8080
CATEGORIES:50 Jahre Militärputsch
CREATED;VALUE=DATE-TIME:20200429T183004Z
DESCRIPTION:Über die Aufarbeitung der brasilianischen Militärdiktatur (1
 964-1985) im Bundesstaat Pernambuco
LAST-MODIFIED;VALUE=DATE-TIME:20200429T183004Z
LOCATION:Heinrich-Böll-Stiftung\, Schumannstr.8\, 10117 Berlin
URL:https://www.kooperation-brasilien.org/de/veranstaltungen/termine/memor
 ia-e-verdade-erinnerung-und-wahrheit
END:VEVENT
BEGIN:VTIMEZONE
TZID:Europe/Berlin
X-LIC-LOCATION:Europe/Berlin
BEGIN:DAYLIGHT
DTSTART;VALUE=DATE-TIME:20140330T030000
TZNAME:CEST
TZOFFSETFROM:+0100
TZOFFSETTO:+0200
END:DAYLIGHT
END:VTIMEZONE
END:VCALENDAR
