BEGIN:VCALENDAR
VERSION:2.0
PRODID:-//Plone.org//NONSGML plone.app.event//EN
X-WR-TIMEZONE:Europe/Berlin
BEGIN:VEVENT
SUMMARY:March against Monsanto & Syngenta
DTSTART;TZID=Europe/Berlin;VALUE=DATE-TIME:20170520T180000
DTEND;TZID=Europe/Berlin;VALUE=DATE-TIME:20170520T220000
DTSTAMP;VALUE=DATE-TIME:20260423T125452Z
UID:f5aacabaf8e741d6f6024448870e2812@app-03.tuxwerk.de:8080
CATEGORIES:Recht auf Nahrung,Soziale Bewegungen,Gentechnik
CREATED;VALUE=DATE-TIME:20200429T182958Z
DESCRIPTION:Der nächste Marsch findet am Samstag\, 20. Mai 2017 statt. Tr
 effpunkt ist um 14 Uhr auf dem Barfüsserplatz in Basel.
LAST-MODIFIED;VALUE=DATE-TIME:20200429T182958Z
LOCATION:Basel\, CH
URL:https://www.kooperation-brasilien.org/de/veranstaltungen/termine/march
 -against-monsanto-syngenta
END:VEVENT
BEGIN:VTIMEZONE
TZID:Europe/Berlin
X-LIC-LOCATION:Europe/Berlin
BEGIN:DAYLIGHT
DTSTART;VALUE=DATE-TIME:20170326T030000
TZNAME:CEST
TZOFFSETFROM:+0100
TZOFFSETTO:+0200
END:DAYLIGHT
END:VTIMEZONE
END:VCALENDAR
