BEGIN:VCALENDAR
VERSION:2.0
PRODID:-//Plone.org//NONSGML plone.app.event//EN
X-WR-TIMEZONE:Europe/Berlin
BEGIN:VEVENT
SUMMARY:Machtverfall und Politikverdrossenheit: Welche Optionen hat Brasil
 ien?
DTSTART;TZID=Europe/Berlin;VALUE=DATE-TIME:20160824T220000
DTEND;TZID=Europe/Berlin;VALUE=DATE-TIME:20160824T233000
DTSTAMP;VALUE=DATE-TIME:20260419T202118Z
UID:bdc080fd6a4d161c2a393f5cd45aa237@app-03.tuxwerk.de:8080
CONTACT:030-224 881 44\, dbg.berlin@topicos.de
CREATED;VALUE=DATE-TIME:20200429T182957Z
DESCRIPTION:Ein Vortrag über die politische Lage in Brasilien von Prof. D
 r. Günther Maihold
LAST-MODIFIED;VALUE=DATE-TIME:20200429T182957Z
LOCATION:Berlin
URL:https://www.kooperation-brasilien.org/de/veranstaltungen/termine/macht
 verfall-und-politikverdrossenheit-welche-optionen-hat-brasilien
END:VEVENT
BEGIN:VTIMEZONE
TZID:Europe/Berlin
X-LIC-LOCATION:Europe/Berlin
BEGIN:DAYLIGHT
DTSTART;VALUE=DATE-TIME:20160327T030000
TZNAME:CEST
TZOFFSETFROM:+0100
TZOFFSETTO:+0200
END:DAYLIGHT
END:VTIMEZONE
END:VCALENDAR
