BEGIN:VCALENDAR
VERSION:2.0
PRODID:-//Plone.org//NONSGML plone.app.event//EN
X-WR-TIMEZONE:Europe/Berlin
BEGIN:VEVENT
SUMMARY:Linke Politik als Widerstand gegen Bolsonaro
DTSTART;TZID=Europe/Berlin;VALUE=DATE-TIME:20190226T210000
DTEND;TZID=Europe/Berlin;VALUE=DATE-TIME:20190226T230000
DTSTAMP;VALUE=DATE-TIME:20260425T210135Z
UID:568780bbe42b1f4f93cefae3c65641d2@app-03.tuxwerk.de:8080
CREATED;VALUE=DATE-TIME:20200429T182950Z
DESCRIPTION:Informations- und Diskussionsveranstaltung mit Israel Dutra un
 d Paula Coradi
LAST-MODIFIED;VALUE=DATE-TIME:20200429T182950Z
LOCATION:Berlin
URL:https://www.kooperation-brasilien.org/de/veranstaltungen/termine/linke
 -politik-als-widerstand-gegen-bolsonaro
END:VEVENT
BEGIN:VTIMEZONE
TZID:Europe/Berlin
X-LIC-LOCATION:Europe/Berlin
BEGIN:STANDARD
DTSTART;VALUE=DATE-TIME:20181028T020000
TZNAME:CET
TZOFFSETFROM:+0200
TZOFFSETTO:+0100
END:STANDARD
END:VTIMEZONE
END:VCALENDAR
