BEGIN:VCALENDAR
VERSION:2.0
PRODID:-//Plone.org//NONSGML plone.app.event//EN
X-WR-TIMEZONE:Europe/Berlin
BEGIN:VEVENT
SUMMARY:Lesung mit Eliane Brum
DTSTART;TZID=Europe/Berlin;VALUE=DATE-TIME:20151118T213000
DTEND;TZID=Europe/Berlin;VALUE=DATE-TIME:20151118T234500
DTSTAMP;VALUE=DATE-TIME:20260419T155218Z
UID:cc7a4690ac5ec4a38fbb411d32e06bab@app-03.tuxwerk.de:8080
CATEGORIES:Kultur
CREATED;VALUE=DATE-TIME:20200429T182946Z
DESCRIPTION:Das Brasilianische Kulturzentrum in Frankfurt (CCBF) freut sic
 h gemeinsam mit der Stadtbücherei Frankfurt alle Mitglieder und Freunde e
 inzuladen\, zu einer Lesung der Journalistin und Schriftstellerin\n\nElian
 e Brum
LAST-MODIFIED;VALUE=DATE-TIME:20200429T182946Z
LOCATION:Frankfurt
URL:https://www.kooperation-brasilien.org/de/veranstaltungen/termine/lesun
 g-mit-eliane-brum
END:VEVENT
BEGIN:VTIMEZONE
TZID:Europe/Berlin
X-LIC-LOCATION:Europe/Berlin
BEGIN:STANDARD
DTSTART;VALUE=DATE-TIME:20151025T020000
TZNAME:CET
TZOFFSETFROM:+0200
TZOFFSETTO:+0100
END:STANDARD
END:VTIMEZONE
END:VCALENDAR
