BEGIN:VCALENDAR
VERSION:2.0
PRODID:-//Plone.org//NONSGML plone.app.event//EN
X-WR-TIMEZONE:Europe/Berlin
BEGIN:VEVENT
SUMMARY:Landraub\, Vertreibung und indigener Widerstand
DTSTART;TZID=Europe/Berlin;VALUE=DATE-TIME:20170515T230000
DTEND;TZID=Europe/Berlin;VALUE=DATE-TIME:20170517T010000
DTSTAMP;VALUE=DATE-TIME:20260422T112209Z
UID:8bf5b45c668419940aa2303221869410@app-03.tuxwerk.de:8080
CATEGORIES:Traditionelle Völker und Gemeinschaften,Landkonflikte und Umwe
 lt,Menschenrechte und Gesellschaft
CREATED;VALUE=DATE-TIME:20200429T182937Z
DESCRIPTION:Ládio Veron (Guaraní-Kaiowá) berichtet über die Lage seine
 s Volkes in Brasilien
LAST-MODIFIED;VALUE=DATE-TIME:20200429T182937Z
LOCATION:Innsbruck\, AT
URL:https://www.kooperation-brasilien.org/de/veranstaltungen/termine/landr
 aub-vertreibung-und-indigener-widerstand
END:VEVENT
BEGIN:VTIMEZONE
TZID:Europe/Berlin
X-LIC-LOCATION:Europe/Berlin
BEGIN:DAYLIGHT
DTSTART;VALUE=DATE-TIME:20170326T030000
TZNAME:CEST
TZOFFSETFROM:+0100
TZOFFSETTO:+0200
END:DAYLIGHT
END:VTIMEZONE
END:VCALENDAR
