BEGIN:VCALENDAR
VERSION:2.0
PRODID:-//Plone.org//NONSGML plone.app.event//EN
X-WR-TIMEZONE:Europe/Berlin
BEGIN:VEVENT
SUMMARY:Kundgebung: Hände weg von Lula!
DTSTART;TZID=Europe/Berlin;VALUE=DATE-TIME:20180221T183000
DTEND;TZID=Europe/Berlin;VALUE=DATE-TIME:20180221T223000
DTSTAMP;VALUE=DATE-TIME:20260419T221944Z
UID:9f31265ab4ec7355951b5550dbd5f6a7@app-03.tuxwerk.de:8080
CATEGORIES:Soziale Bewegungen,Politik und Wirtschaft
CREATED;VALUE=DATE-TIME:20200429T182934Z
DESCRIPTION:Die Initativen Berlin gegen den Putsch und SOS Lula rufen zu e
 iner Kundgebung für Solidarität mit Brasiliens unrechtmäßig verurteilt
 en frühere Präsidenten Luiz Inácio Lula da Silva auf.
LAST-MODIFIED;VALUE=DATE-TIME:20200429T182934Z
LOCATION:Berlin
URL:https://www.kooperation-brasilien.org/de/veranstaltungen/termine/kundg
 ebung-haende-weg-von-lula
END:VEVENT
BEGIN:VTIMEZONE
TZID:Europe/Berlin
X-LIC-LOCATION:Europe/Berlin
BEGIN:STANDARD
DTSTART;VALUE=DATE-TIME:20171029T020000
TZNAME:CET
TZOFFSETFROM:+0200
TZOFFSETTO:+0100
END:STANDARD
END:VTIMEZONE
END:VCALENDAR
