BEGIN:VCALENDAR
VERSION:2.0
PRODID:-//Plone.org//NONSGML plone.app.event//EN
X-WR-TIMEZONE:Europe/Berlin
BEGIN:VEVENT
SUMMARY:Mahnwache für die ermorderten Menschenrechtsaktivisten in Brasili
 en
DTSTART;TZID=Europe/Berlin;VALUE=DATE-TIME:20180505T140000
DTEND;TZID=Europe/Berlin;VALUE=DATE-TIME:20180506T022000
DTSTAMP;VALUE=DATE-TIME:20260423T155727Z
UID:95f875dc841087733b3953ad692e7213@app-03.tuxwerk.de:8080
CATEGORIES:Menschenrechte und Gesellschaft
CREATED;VALUE=DATE-TIME:20200429T182932Z
DESCRIPTION:Der brasilianische Menschenrechtsverein Abá e. V. lädt am 05
 .05.2018 zwischen 10:00 und 22:00 Uhr am Roßmarkt in Frankfurt am Main zu
  einer Kundgebung als Gedenkveranstaltung und Mahnwache ein\, um an die er
 mordeten Menschenrechtsaktivisten in Brasilien seit dem politischen Putsch
  im Jahr 2016 öffentlich zu erinnern.\n\n\n\n
LAST-MODIFIED;VALUE=DATE-TIME:20200429T182932Z
LOCATION:Frankfurt
URL:https://www.kooperation-brasilien.org/de/veranstaltungen/termine/kundg
 ebung-gedenkveranstaltung-und-mahnwache-fuer-die-ermorderten-menschenrecht
 saktivisten-in-brasilien
END:VEVENT
BEGIN:VTIMEZONE
TZID:Europe/Berlin
X-LIC-LOCATION:Europe/Berlin
BEGIN:DAYLIGHT
DTSTART;VALUE=DATE-TIME:20180325T030000
TZNAME:CEST
TZOFFSETFROM:+0100
TZOFFSETTO:+0200
END:DAYLIGHT
END:VTIMEZONE
END:VCALENDAR
