BEGIN:VCALENDAR
VERSION:2.0
PRODID:-//Plone.org//NONSGML plone.app.event//EN
X-WR-TIMEZONE:Europe/Berlin
BEGIN:VEVENT
SUMMARY:Konzert und Gespräch
DTSTART;TZID=Europe/Berlin;VALUE=DATE-TIME:20260121T190000
DTSTAMP;VALUE=DATE-TIME:20260422T223628Z
UID:58b08cf9c0e9447795fd4b2c20c82f16@app-03.tuxwerk.de:8080
CONTACT:https://www.goethe.de/de/uun/ver.cfm?wt_sc=veranstaltungen&event_i
 d=27085207
CREATED;VALUE=DATE-TIME:20260107T160810Z
DESCRIPTION:Samuel Gapp - Klavier\nRodrigo Brandão - Spoken Word\n\nWir f
 reuen uns darauf\, die erste öffentliche Aufführung im Rahmen einer lauf
 enden künstlerischen Zusammenarbeit zwischen dem Komponisten und Pianiste
 n Samuel Gapp und dem brasilianischen Spoken-Word-Künstler Rodrigo Brand
 ão präsentieren zu dürfen. Ihr gemeinsamer Forschungsprozess untersucht
  die wechselseitigen Beziehungen verschiedener Themenfelder: Transkultural
 ität und postkoloniale Fragen sowie Aspekte von Ritual und Zeremonie in d
 er Musik. Dabei beziehen sich die Künstler immer auf das Spannungsfeld vo
 n Komposition und Improvisation im Sinne „europäischer“\, schriftlich
 er Tradition gegenüber oraler Überlieferung. Es geht dabei vor allem um 
 das Zusammentreffen unterschiedlicher kulturspezifischer Hintergründe\, d
 ie durch eine spielerische Annäherung in Beziehung treten.
LAST-MODIFIED;VALUE=DATE-TIME:20260107T161208Z
LOCATION:Goethe Institut Freiburg\, Wilhelmstraße 17
URL:https://www.kooperation-brasilien.org/de/veranstaltungen/termine/konze
 rt-und-gespraech
END:VEVENT
BEGIN:VTIMEZONE
TZID:Europe/Berlin
X-LIC-LOCATION:Europe/Berlin
BEGIN:STANDARD
DTSTART;VALUE=DATE-TIME:20251026T020000
TZNAME:CET
TZOFFSETFROM:+0200
TZOFFSETTO:+0100
END:STANDARD
END:VTIMEZONE
END:VCALENDAR
