BEGIN:VCALENDAR
VERSION:2.0
PRODID:-//Plone.org//NONSGML plone.app.event//EN
X-WR-TIMEZONE:Europe/Berlin
BEGIN:VEVENT
SUMMARY:Klimakiller Freihandel: Das EU-Mercosur Abkommen unter der Lupe
DTSTART;TZID=Europe/Berlin;VALUE=DATE-TIME:20200113T203000
DTEND;TZID=Europe/Berlin;VALUE=DATE-TIME:20200113T223000
DTSTAMP;VALUE=DATE-TIME:20260422T122032Z
UID:43ee7634c92e8edefcd1bb92eafcb387@app-03.tuxwerk.de:8080
CONTACT:bettina.mueller@power-shift.de
CREATED;VALUE=DATE-TIME:20200429T182922Z
DESCRIPTION:Information- und Diskussionsveranstaltung mit Camila de Abreu 
 (Brasilien Initiative Berlin / RefrACTa Coletivo Brasil-Berlin) und Bettin
 a Müller (Referentin für internationale Handels- und Investitionspolitik
  bei PowerShift e.V.)
LAST-MODIFIED;VALUE=DATE-TIME:20200429T182922Z
LOCATION:Berlin
URL:https://www.kooperation-brasilien.org/de/veranstaltungen/termine/klima
 killer-freihandel-das-eu-mercosur-abkommen-unter-der-lupe
END:VEVENT
BEGIN:VTIMEZONE
TZID:Europe/Berlin
X-LIC-LOCATION:Europe/Berlin
BEGIN:STANDARD
DTSTART;VALUE=DATE-TIME:20191027T020000
TZNAME:CET
TZOFFSETFROM:+0200
TZOFFSETTO:+0100
END:STANDARD
END:VTIMEZONE
END:VCALENDAR
