BEGIN:VCALENDAR
VERSION:2.0
PRODID:-//Plone.org//NONSGML plone.app.event//EN
X-WR-TIMEZONE:Europe/Berlin
BEGIN:VEVENT
SUMMARY:Klima und Menschenrechte schützen! Das EU-MERCOSUR-Abkommen muss 
 gestoppt werden!
DTSTART;TZID=Europe/Berlin;VALUE=DATE-TIME:20190924T203000
DTEND;TZID=Europe/Berlin;VALUE=DATE-TIME:20190924T220000
DTSTAMP;VALUE=DATE-TIME:20260425T223741Z
UID:0631639bdb1988ed76d61ef925906406@app-03.tuxwerk.de:8080
CREATED;VALUE=DATE-TIME:20200429T182920Z
DESCRIPTION:Kundgebung vor der Vertretung der Europäischen Kommission in 
 Deutschland (Unter den Linden 78\, 10117 Berlin)
LAST-MODIFIED;VALUE=DATE-TIME:20200429T182920Z
LOCATION:Berlin
URL:https://www.kooperation-brasilien.org/de/veranstaltungen/termine/klima
 -und-menschenrechte-schuetzen-das-eu-mercosur-abkommen-muss-gestoppt-werde
 n
END:VEVENT
BEGIN:VTIMEZONE
TZID:Europe/Berlin
X-LIC-LOCATION:Europe/Berlin
BEGIN:DAYLIGHT
DTSTART;VALUE=DATE-TIME:20190331T030000
TZNAME:CEST
TZOFFSETFROM:+0100
TZOFFSETTO:+0200
END:DAYLIGHT
END:VTIMEZONE
END:VCALENDAR
