BEGIN:VCALENDAR
VERSION:2.0
PRODID:-//Plone.org//NONSGML plone.app.event//EN
X-WR-TIMEZONE:Europe/Berlin
BEGIN:VEVENT
SUMMARY:Kampf ums Überleben der Guarani Kaiowá in Brasilien
DTSTART;TZID=Europe/Berlin;VALUE=DATE-TIME:20170505T230000
DTEND;TZID=Europe/Berlin;VALUE=DATE-TIME:20170506T020000
DTSTAMP;VALUE=DATE-TIME:20260423T120320Z
UID:f419148bc7b420d5fd9255764f4195df@app-03.tuxwerk.de:8080
CATEGORIES:Soziale Bewegungen,Traditionelle Völker und Gemeinschaften,Men
 schenrechte und Gesellschaft,Recht auf Nahrung,Landkonflikte und Umwelt
CREATED;VALUE=DATE-TIME:20200429T182904Z
DESCRIPTION:Als Repräsentant der Guarani ist Cacique (Häuptling) Ládio 
 Veron auf Europatour. Er will über die aktuelle Lage und die Auswirkungen
  des internationalen Agrargeschäfts berichten sowie ein Unterstützungsne
 tzwerk aktivieren.
LAST-MODIFIED;VALUE=DATE-TIME:20200429T182904Z
LOCATION:München
URL:https://www.kooperation-brasilien.org/de/veranstaltungen/termine/kampf
 -ums-ueberleben-der-guarani-kaiowa-in-brasilien
END:VEVENT
BEGIN:VTIMEZONE
TZID:Europe/Berlin
X-LIC-LOCATION:Europe/Berlin
BEGIN:DAYLIGHT
DTSTART;VALUE=DATE-TIME:20170326T030000
TZNAME:CEST
TZOFFSETFROM:+0100
TZOFFSETTO:+0200
END:DAYLIGHT
END:VTIMEZONE
END:VCALENDAR
