BEGIN:VCALENDAR
VERSION:2.0
PRODID:-//Plone.org//NONSGML plone.app.event//EN
X-WR-TIMEZONE:Europe/Berlin
BEGIN:VEVENT
SUMMARY:Kämpfe um Wasser in Lateinamerika
DTSTART;TZID=Europe/Berlin;VALUE=DATE-TIME:20240426T190000
DTSTAMP;VALUE=DATE-TIME:20260423T061924Z
UID:8065c93f06764e3ea79a43fad60fe8bc@app-03.tuxwerk.de:8080
CONTACT:https://www.katholische-akademie-freiburg.de/akademie/junge-akadem
 ie/detail/termin/id/3448727-kaempfe-um-wasser-in-lateinamerika/?vt=1&cb-id
 =12270792
CREATED;VALUE=DATE-TIME:20231220T112824Z
DESCRIPTION:Studientag im Rahmen der Jungen Akademie\nIn Zusammenarbeit mi
 t dem Netzwerk Postcolonial Hierarchies\nin Peace and Conflict Studies am 
 Arnold-Bergstraesser-Institut\nPräsenz mit Livestream\n\nStudientag / Pod
 iumsdiskussion\n26. April 2024\, 13 Uhr / 19 Uhr
LAST-MODIFIED;VALUE=DATE-TIME:20240704T135550Z
LOCATION:Katholisch Akademie Freiburg\, Wintererstr. 1 79104 Freiburg
URL:https://www.kooperation-brasilien.org/de/veranstaltungen/termine/kaemp
 fe-um-wasser-in-lateinamerika
END:VEVENT
BEGIN:VTIMEZONE
TZID:Europe/Berlin
X-LIC-LOCATION:Europe/Berlin
BEGIN:DAYLIGHT
DTSTART;VALUE=DATE-TIME:20240331T030000
TZNAME:CEST
TZOFFSETFROM:+0100
TZOFFSETTO:+0200
END:DAYLIGHT
END:VTIMEZONE
END:VCALENDAR
