BEGIN:VCALENDAR
VERSION:2.0
PRODID:-//Plone.org//NONSGML plone.app.event//EN
X-WR-TIMEZONE:Europe/Berlin
BEGIN:VEVENT
SUMMARY:«Ist feministischer Journalismus die Zukunft?»
DTSTART;TZID=Europe/Berlin;VALUE=DATE-TIME:20190212T210000
DTEND;TZID=Europe/Berlin;VALUE=DATE-TIME:20190212T230000
DTSTAMP;VALUE=DATE-TIME:20260421T072215Z
UID:00448d4879ebe02452c11192c6e0cad1@app-03.tuxwerk.de:8080
CREATED;VALUE=DATE-TIME:20200429T182857Z
DESCRIPTION:Ein Gespräch über die Arbeit investigativer Journalist*innen
  in Brasilien und Deutschland
LAST-MODIFIED;VALUE=DATE-TIME:20200429T182857Z
LOCATION:Berlin
URL:https://www.kooperation-brasilien.org/de/veranstaltungen/termine/ist-f
 eministischer-journalismus-die-zukunft
END:VEVENT
BEGIN:VTIMEZONE
TZID:Europe/Berlin
X-LIC-LOCATION:Europe/Berlin
BEGIN:STANDARD
DTSTART;VALUE=DATE-TIME:20181028T020000
TZNAME:CET
TZOFFSETFROM:+0200
TZOFFSETTO:+0100
END:STANDARD
END:VTIMEZONE
END:VCALENDAR
