BEGIN:VCALENDAR
VERSION:2.0
PRODID:-//Plone.org//NONSGML plone.app.event//EN
X-WR-TIMEZONE:Europe/Berlin
BEGIN:VEVENT
SUMMARY:International Decolonial Journey in Freiburg - Amazon Arc of Regen
 eration
DTSTART;TZID=Europe/Berlin;VALUE=DATE-TIME:20220730T130000
DTEND;TZID=Europe/Berlin;VALUE=DATE-TIME:20220731T180000
DTSTAMP;VALUE=DATE-TIME:20260425T210055Z
UID:75f494d3e6ba42219645803d30619eca@app-03.tuxwerk.de:8080
CONTACT:https://www.meli-bees.org/international-decolonial-journey-in-frei
 burg/
CREATED;VALUE=DATE-TIME:20220707T132716Z
DESCRIPTION:Embark on a journey (in english) through the history as well a
 s current ecological and social struggles of the Amazon in Brazil\, told b
 y local voices of friends and partners of the NGO Meli Bees Network!
LAST-MODIFIED;VALUE=DATE-TIME:20220707T132813Z
LOCATION:Haus des Engagements - Rehlingstraße 9 (Freiburg)
URL:https://www.kooperation-brasilien.org/de/veranstaltungen/termine/inter
 national-decolonial-journey-in-freiburg-amazon-arc-of-regeneration
END:VEVENT
BEGIN:VTIMEZONE
TZID:Europe/Berlin
X-LIC-LOCATION:Europe/Berlin
BEGIN:DAYLIGHT
DTSTART;VALUE=DATE-TIME:20220327T030000
TZNAME:CEST
TZOFFSETFROM:+0100
TZOFFSETTO:+0200
END:DAYLIGHT
END:VTIMEZONE
END:VCALENDAR
