BEGIN:VCALENDAR
VERSION:2.0
PRODID:-//Plone.org//NONSGML plone.app.event//EN
X-WR-TIMEZONE:Europe/Berlin
BEGIN:VEVENT
SUMMARY:Inside COP30: Neue Allianzen für eine gerechte Klimapolitik (Hybr
 idveranstaltung)
DTSTART;TZID=Europe/Berlin;VALUE=DATE-TIME:20251115T160000
DTEND;TZID=Europe/Berlin;VALUE=DATE-TIME:20251115T180000
DTSTAMP;VALUE=DATE-TIME:20260423T062559Z
UID:15038bb5459a48878e2ead9c883a3a83@app-03.tuxwerk.de:8080
CREATED;VALUE=DATE-TIME:20251111T160136Z
DESCRIPTION:Eine hybride Kooperationsveranstaltung der ASW\, des LAF Berli
 n und des FDCL im Rahmen der Initiative "Berlin aktiv im Klima-Bündnis". 
 Bitte anmelden (siehe Text)
LAST-MODIFIED;VALUE=DATE-TIME:20251210T143452Z
LOCATION:Berlin Global Village\, Patrice Lumumba Galerie\, Am Sudhaus 2\, 
 12053 Berlin oder alternativ virtuell (bitte bei Anmeldung angeben)
URL:https://www.kooperation-brasilien.org/de/veranstaltungen/termine/insid
 e-cop30-neue-allianzen-fuer-eine-gerechte-klimapolitik-hybridveranstaltung
END:VEVENT
BEGIN:VTIMEZONE
TZID:Europe/Berlin
X-LIC-LOCATION:Europe/Berlin
BEGIN:STANDARD
DTSTART;VALUE=DATE-TIME:20251026T020000
TZNAME:CET
TZOFFSETFROM:+0200
TZOFFSETTO:+0100
END:STANDARD
END:VTIMEZONE
END:VCALENDAR
