BEGIN:VCALENDAR
VERSION:2.0
PRODID:-//Plone.org//NONSGML plone.app.event//EN
X-WR-TIMEZONE:Europe/Berlin
BEGIN:VEVENT
SUMMARY:Informations- und Diskussionsveranstaltung BRASILIEN NACH DEN WAHL
 EN
DTSTART;TZID=Europe/Berlin;VALUE=DATE-TIME:20221109T180000
DTSTAMP;VALUE=DATE-TIME:20260423T232252Z
UID:c1d855f4946f40e99a1b334baa687024@app-03.tuxwerk.de:8080
CATEGORIES:Wahlen
CREATED;VALUE=DATE-TIME:20221024T124019Z
DESCRIPTION:Brasilien hat gewählt. Gemeinsam mit unserem Referenten\, Chr
 istian Russau vom FDCL (Forschungs- und Dokumentationszentrum Chile-Latein
 amerika) wollen wir die Ergebnisse der brasilianischen Präsidentschaftswa
 hlen debattieren. \n\nEine Veranstaltung des Arbeitskreis „Solidarität 
 mit Brasilianischen Gewerkschaften“ im DGB Region Nordbaden
LAST-MODIFIED;VALUE=DATE-TIME:20221107T114441Z
LOCATION:Gewerkschaftshaus in Mannheim
URL:https://www.kooperation-brasilien.org/de/veranstaltungen/termine/infor
 mations-und-diskussionsveranstaltung-brasilien-nach-den-wahlen
END:VEVENT
BEGIN:VTIMEZONE
TZID:Europe/Berlin
X-LIC-LOCATION:Europe/Berlin
BEGIN:STANDARD
DTSTART;VALUE=DATE-TIME:20221030T020000
TZNAME:CET
TZOFFSETFROM:+0200
TZOFFSETTO:+0100
END:STANDARD
END:VTIMEZONE
END:VCALENDAR
