BEGIN:VCALENDAR
VERSION:2.0
PRODID:-//Plone.org//NONSGML plone.app.event//EN
X-WR-TIMEZONE:Europe/Berlin
BEGIN:VEVENT
SUMMARY:Indios – die Schützer des Amazonas-Regenwaldes
DTSTART;TZID=Europe/Berlin;VALUE=DATE-TIME:20150619T000000
DTEND;TZID=Europe/Berlin;VALUE=DATE-TIME:20150619T020000
DTSTAMP;VALUE=DATE-TIME:20260422T193311Z
UID:7d58a207d9fa235166e7eda1b51bdefd@app-03.tuxwerk.de:8080
CATEGORIES:Soziale Bewegungen,Amazonien,Traditionelle Völker und Gemeinsc
 haften,Menschenrechte und Gesellschaft
CREATED;VALUE=DATE-TIME:20200429T182849Z
DESCRIPTION:Johann Graf von POEMA berichtet über das Leben der Wajapi-Ind
 ios in Amazonien\, mit denen POEMA bereits seit fast 10 Jahren im Bereich 
 der Gesundheitsversorgung zusammenarbeitet. Auch die Munduruku-Indios werd
 en Thema sein\, vor allem ihr Kampf gegen die sie bedrohenden Staudammproj
 ekte in ihrem Gebiet am Rio Tapajos.
LAST-MODIFIED;VALUE=DATE-TIME:20200429T182849Z
LOCATION:Stuttgart
URL:https://www.kooperation-brasilien.org/de/veranstaltungen/termine/indio
 s-2013-die-schuetzer-des-amazonas-regenwaldes
END:VEVENT
BEGIN:VTIMEZONE
TZID:Europe/Berlin
X-LIC-LOCATION:Europe/Berlin
BEGIN:DAYLIGHT
DTSTART;VALUE=DATE-TIME:20150329T030000
TZNAME:CEST
TZOFFSETFROM:+0100
TZOFFSETTO:+0200
END:DAYLIGHT
END:VTIMEZONE
END:VCALENDAR
