BEGIN:VCALENDAR
VERSION:2.0
PRODID:-//Plone.org//NONSGML plone.app.event//EN
X-WR-TIMEZONE:Europe/Berlin
BEGIN:VEVENT
SUMMARY:Indigene Völker in Amazonien: Kunst zur Welterklärung?
DTSTART;TZID=Europe/Berlin;VALUE=DATE-TIME:20250114T180000
DTEND;TZID=Europe/Berlin;VALUE=DATE-TIME:20250114T193000
DTSTAMP;VALUE=DATE-TIME:20260423T182757Z
UID:764c1f7a884c44b091a4fd4ad34770da@app-03.tuxwerk.de:8080
ATTENDEE;CN="Teilnehmer*innen: 5 - 20 ";ROLE=REQ-PARTICIPANT:Teilnehmer*in
 nen: 5 - 20 
CONTACT:Österreichisches Lateinamerika-Institut\, kulturvermittlung@weltm
 useumwien.at\, https://www.vhs.at/de/e/lai/k/566697443
CREATED;VALUE=DATE-TIME:20250107T110840Z
DESCRIPTION:Vortragsreihe: (Un)Known Artists of the Amazon
LAST-MODIFIED;VALUE=DATE-TIME:20250107T110909Z
LOCATION:Weltmuseum Wien\, Heldenplatz \, 1010 Wien
URL:https://www.kooperation-brasilien.org/de/veranstaltungen/termine/indig
 ene-voelker-in-amazonien-kunst-zur-welterklaerung
END:VEVENT
BEGIN:VTIMEZONE
TZID:Europe/Berlin
X-LIC-LOCATION:Europe/Berlin
BEGIN:STANDARD
DTSTART;VALUE=DATE-TIME:20241027T020000
TZNAME:CET
TZOFFSETFROM:+0200
TZOFFSETTO:+0100
END:STANDARD
END:VTIMEZONE
END:VCALENDAR
