BEGIN:VCALENDAR
VERSION:2.0
PRODID:-//Plone.org//NONSGML plone.app.event//EN
X-WR-TIMEZONE:Europe/Berlin
BEGIN:VEVENT
SUMMARY:Indigene Lebensperspektiven und Widerstandserfahrungen
DTSTART;TZID=Europe/Berlin;VALUE=DATE-TIME:20231022T193000
DTEND;TZID=Europe/Berlin;VALUE=DATE-TIME:20231022T210000
DTSTAMP;VALUE=DATE-TIME:20260423T092419Z
UID:74004a9e6a9947b78d9aac49423f08ee@app-03.tuxwerk.de:8080
CATEGORIES:_feb23
CREATED;VALUE=DATE-TIME:20231012T090428Z
DESCRIPTION:Der Beitrag traditioneller Gemeinschaften in Brasilien für de
 n Erhalt kultureller Vielfalt und den Klima- und Umweltschutz\n\nEine Vera
 nstaltung von Misereor\, adveniat\, Caritas International und KoBra
LAST-MODIFIED;VALUE=DATE-TIME:20231123T141257Z
LOCATION:Maternushaus (Raum Adelheid)\, Kardinal-Frings-Str. 1-3\, 50668 K
 öln
URL:https://www.kooperation-brasilien.org/de/veranstaltungen/termine/indig
 ene-lebensperspektiven-und-widerstandserfahrungen
END:VEVENT
BEGIN:VTIMEZONE
TZID:Europe/Berlin
X-LIC-LOCATION:Europe/Berlin
BEGIN:DAYLIGHT
DTSTART;VALUE=DATE-TIME:20230326T030000
TZNAME:CEST
TZOFFSETFROM:+0100
TZOFFSETTO:+0200
END:DAYLIGHT
END:VTIMEZONE
END:VCALENDAR
