BEGIN:VCALENDAR
VERSION:2.0
PRODID:-//Plone.org//NONSGML plone.app.event//EN
X-WR-TIMEZONE:Europe/Berlin
BEGIN:VEVENT
SUMMARY:Fällt leider aus! Im Zangenbiß von Autoritarismus und Ausplünde
 rung
DTSTART;TZID=Europe/Berlin;VALUE=DATE-TIME:20200317T220000
DTEND;TZID=Europe/Berlin;VALUE=DATE-TIME:20200318T000000
DTSTAMP;VALUE=DATE-TIME:20260423T220834Z
UID:099aa98b57f4066df32ae82cfd551d77@app-03.tuxwerk.de:8080
CREATED;VALUE=DATE-TIME:20200429T182841Z
DESCRIPTION:Brasilien unter Bolsonaro
LAST-MODIFIED;VALUE=DATE-TIME:20200429T182841Z
LOCATION:Freiburg
URL:https://www.kooperation-brasilien.org/de/veranstaltungen/termine/im-za
 ngenbiss-von-autoritarismus-und-auspluenderung
END:VEVENT
BEGIN:VTIMEZONE
TZID:Europe/Berlin
X-LIC-LOCATION:Europe/Berlin
BEGIN:STANDARD
DTSTART;VALUE=DATE-TIME:20191027T020000
TZNAME:CET
TZOFFSETFROM:+0200
TZOFFSETTO:+0100
END:STANDARD
END:VTIMEZONE
END:VCALENDAR
