BEGIN:VCALENDAR
VERSION:2.0
PRODID:-//Plone.org//NONSGML plone.app.event//EN
X-WR-TIMEZONE:Europe/Berlin
BEGIN:VEVENT
SUMMARY:Herausgefordert: Brasiliens Außenpolitik in Zeiten von Trump\, BR
 ICS-Präsidentschaft und Klimaverhandlungen
DTSTART;TZID=Europe/Berlin;VALUE=DATE-TIME:20250513T183000
DTEND;TZID=Europe/Berlin;VALUE=DATE-TIME:20250513T203000
DTSTAMP;VALUE=DATE-TIME:20260423T182952Z
UID:aea7f138cb6241a995f319bc7c4ea7fd@app-03.tuxwerk.de:8080
CATEGORIES:_feb25
CONTACT:LAF Berlin\, Moderation Luiz Ramalho\, https://lateinamerikaforum-
 berlin.de/veranstaltungen/herausgefordert-brasiliens-aussenpolitik-in-zeit
 en-von-trump-brics-praesidentschaft-und-klimaverhandlungen/
CREATED;VALUE=DATE-TIME:20250416T103739Z
DESCRIPTION:Online Veranstaltung: Termin vormerken –  Anmeldeinformation
 en folgen zeitnah! \n\nNach einer Phase der internationalen Isolation unte
 r Jair Bolsonaro ist Brasilien mit der dritten Amtszeit von Luiz Inácio L
 ula da Silva erneut auf die globale Bühne zurückgekehrt. Mit großen Erw
 artungen an seine diplomatische und geopolitische Rolle sieht sich das Lan
 d einer Vielzahl von Herausforderungen und Chancen gegenüber.
LAST-MODIFIED;VALUE=DATE-TIME:20251215T122026Z
LOCATION:Online via Zoom\, Anmeldung vorher über die Seite des LAF erford
 erlich
URL:https://www.kooperation-brasilien.org/de/veranstaltungen/termine/herau
 sgefordert-brasiliens-aussenpolitik-in-zeiten-von-trump-brics-praesidentsc
 haft-und-klimaverhandlungen
END:VEVENT
BEGIN:VTIMEZONE
TZID:Europe/Berlin
X-LIC-LOCATION:Europe/Berlin
BEGIN:DAYLIGHT
DTSTART;VALUE=DATE-TIME:20250330T030000
TZNAME:CEST
TZOFFSETFROM:+0100
TZOFFSETTO:+0200
END:DAYLIGHT
END:VTIMEZONE
END:VCALENDAR
