BEGIN:VCALENDAR
VERSION:2.0
PRODID:-//Plone.org//NONSGML plone.app.event//EN
X-WR-TIMEZONE:Europe/Berlin
BEGIN:VEVENT
SUMMARY:Handel auf Augenhöhe? Warum wir über das EU-Mercosur-Abkommen sp
 rechen müssen.
DTSTART;TZID=Europe/Berlin;VALUE=DATE-TIME:20221110T190000
DTSTAMP;VALUE=DATE-TIME:20260420T092803Z
UID:45513593cae149b7846c206a8dac394e@app-03.tuxwerk.de:8080
CATEGORIES:Landkonflikte und Umwelt
CONTACT:https://www.aba-ev.org
CREATED;VALUE=DATE-TIME:20221102T094643Z
DESCRIPTION:Online-Vortrag mit der Soziologin und Expertin für Klimagerec
 htigkeit Claudia Horn\n\nWas ist der Inhalt des Abkommens? Wie transparent
  und demokratisch sind die Verhandlungen? Was sind die abschätzbaren Wirk
 ungen für Arbeiter\, Industrie\, Landbau\, Menschenrechte\, regionale Ung
 leichheiten\, Machtverhältnisse und Umwelt für beide Seiten? Dieser Vort
 rag dient der kritischen Auseinandersetzung mit diesen Fragen und diskutie
 rt Möglichkeiten zivilgesellschaftlicher Einflussnahme.
LAST-MODIFIED;VALUE=DATE-TIME:20221107T114531Z
LOCATION:Zoom (digital)
URL:https://www.kooperation-brasilien.org/de/veranstaltungen/termine/hande
 l-auf-augenhoehe-warum-wir-ueber-das-eu-mercosur-abkommen-sprechen-muessen
END:VEVENT
BEGIN:VTIMEZONE
TZID:Europe/Berlin
X-LIC-LOCATION:Europe/Berlin
BEGIN:STANDARD
DTSTART;VALUE=DATE-TIME:20221030T020000
TZNAME:CET
TZOFFSETFROM:+0200
TZOFFSETTO:+0100
END:STANDARD
END:VTIMEZONE
END:VCALENDAR
