BEGIN:VCALENDAR
VERSION:2.0
PRODID:-//Plone.org//NONSGML plone.app.event//EN
X-WR-TIMEZONE:Europe/Berlin
BEGIN:VEVENT
SUMMARY:Häusliche Gewalt kennt keine Grenzen
DTSTART;TZID=Europe/Berlin;VALUE=DATE-TIME:20211125T170000
DTEND;TZID=Europe/Berlin;VALUE=DATE-TIME:20211125T183000
DTSTAMP;VALUE=DATE-TIME:20260419T221600Z
UID:29931a592da540e1b50e9a3aa4054899@app-03.tuxwerk.de:8080
CONTACT:https://www.elm-mission.net/veranstaltungen/hosting-the-world/gend
 er-diversitaet-in-kirche-chance-und-herausforderung-online-via-zoom-1.html
CREATED;VALUE=DATE-TIME:20211102T112650Z
DESCRIPTION:Häusliche Gewalt in Brasilien und Deutschland trifft vor alle
 m Frauen (und Kinder). Welche Schutzkonzepte und -systeme für Frauen gibt
  es? Und welche zusätzlichen Möglichkeiten können ergriffen werden\, da
 ss sich an dem Ausmaß dieser Gewalt etwas ändert?
LAST-MODIFIED;VALUE=DATE-TIME:20211102T150956Z
LOCATION:Zoom
URL:https://www.kooperation-brasilien.org/de/veranstaltungen/termine/haeus
 liche-gewalt-kennt-keine-grenzen
END:VEVENT
BEGIN:VTIMEZONE
TZID:Europe/Berlin
X-LIC-LOCATION:Europe/Berlin
BEGIN:STANDARD
DTSTART;VALUE=DATE-TIME:20211031T020000
TZNAME:CET
TZOFFSETFROM:+0200
TZOFFSETTO:+0100
END:STANDARD
END:VTIMEZONE
END:VCALENDAR
