BEGIN:VCALENDAR
VERSION:2.0
PRODID:-//Plone.org//NONSGML plone.app.event//EN
X-WR-TIMEZONE:Europe/Berlin
BEGIN:VEVENT
SUMMARY:Gespräch mit zwei Indigenen aus Amazonien vom Volk der Wajapi
DTSTART;TZID=Europe/Berlin;VALUE=DATE-TIME:20170629T000000
DTEND;TZID=Europe/Berlin;VALUE=DATE-TIME:20170629T013000
DTSTAMP;VALUE=DATE-TIME:20260421T103430Z
UID:b0d0d43b859c54d0e73af9ff5eb89eaf@app-03.tuxwerk.de:8080
CREATED;VALUE=DATE-TIME:20200429T182823Z
DESCRIPTION:POEMA unterstützt die Wajapi seit fast 10 Jahren im Bereich d
 er Gesundheitsversorgung. Es geht\n\nbei dem Gespräch um ihre Situation i
 m Reservat und um die Bedeutung ihrer Verbindung mit POEMA.
LAST-MODIFIED;VALUE=DATE-TIME:20200429T182823Z
LOCATION:Stuttgart
URL:https://www.kooperation-brasilien.org/de/veranstaltungen/termine/gespr
 aech-mit-zwei-indigenen-aus-amazonien-vom-volk-der-wajapi
END:VEVENT
BEGIN:VTIMEZONE
TZID:Europe/Berlin
X-LIC-LOCATION:Europe/Berlin
BEGIN:DAYLIGHT
DTSTART;VALUE=DATE-TIME:20170326T030000
TZNAME:CEST
TZOFFSETFROM:+0100
TZOFFSETTO:+0200
END:DAYLIGHT
END:VTIMEZONE
END:VCALENDAR
