BEGIN:VCALENDAR
VERSION:2.0
PRODID:-//Plone.org//NONSGML plone.app.event//EN
X-WR-TIMEZONE:Europe/Berlin
BEGIN:VEVENT
SUMMARY:Gerechte Landwirtschaft und die COP 30 - Klimakämpfe\, Machtverh
 ältnisse und junge Perspektiven
DTSTART;TZID=Europe/Berlin;VALUE=DATE-TIME:20251029T183000
DTEND;TZID=Europe/Berlin;VALUE=DATE-TIME:20251029T200000
DTSTAMP;VALUE=DATE-TIME:20260420T064639Z
UID:13b2c52ebb084619ba3e4be4e13912ae@app-03.tuxwerk.de:8080
CATEGORIES:_feb25,COP30
CREATED;VALUE=DATE-TIME:20251015T075547Z
DESCRIPTION:Am 29. Oktober 2025 um 18:30 Uhr (Berlin) sprechen wir im COP3
 0-Webinar über gerechte Landwirtschaft\, Machtverhältnisse und junge Per
 spektiven im globalen Ernährungssystem.\nNo dia 29 de outubro de 2025\, 
 às 13h30 (Brasília)\, discutiremos no webinar COP30 sobre agricultura ju
 sta\, relações de poder e perspectivas dos jovens no sistema alimentar g
 lobal.
LAST-MODIFIED;VALUE=DATE-TIME:20251215T121927Z
LOCATION:Online
URL:https://www.kooperation-brasilien.org/de/veranstaltungen/termine/gerec
 hte-landwirtschaft-und-die-cop-30-klimakaempfe-machtverhaeltnisse-und-jung
 e-perspektiven
END:VEVENT
BEGIN:VTIMEZONE
TZID:Europe/Berlin
X-LIC-LOCATION:Europe/Berlin
BEGIN:STANDARD
DTSTART;VALUE=DATE-TIME:20251026T020000
TZNAME:CET
TZOFFSETFROM:+0200
TZOFFSETTO:+0100
END:STANDARD
END:VTIMEZONE
END:VCALENDAR
