BEGIN:VCALENDAR
VERSION:2.0
PRODID:-//Plone.org//NONSGML plone.app.event//EN
X-WR-TIMEZONE:Europe/Berlin
BEGIN:VEVENT
SUMMARY:Gemeinsam gegen Scheinlösungen!
DTSTART;TZID=Europe/Berlin;VALUE=DATE-TIME:20250121T120000
DTSTAMP;VALUE=DATE-TIME:20260419T202125Z
UID:e6134368424342a2810103834c899dd8@app-03.tuxwerk.de:8080
CONTACT:https://www.fdcl.org/event/gemeinsam-gegen-scheinloesungen/
CREATED;VALUE=DATE-TIME:20250116T093611Z
DESCRIPTION:Treffen: Staudammbewegung meets Klimagerechtigkeitsbewegung
LAST-MODIFIED;VALUE=DATE-TIME:20250116T093752Z
LOCATION:Forum Umwelt und Enwicklung Marienstraße 19 10117 Berlin
URL:https://www.kooperation-brasilien.org/de/veranstaltungen/termine/gemei
 nsam-gegen-scheinloesungen
END:VEVENT
BEGIN:VTIMEZONE
TZID:Europe/Berlin
X-LIC-LOCATION:Europe/Berlin
BEGIN:STANDARD
DTSTART;VALUE=DATE-TIME:20241027T020000
TZNAME:CET
TZOFFSETFROM:+0200
TZOFFSETTO:+0100
END:STANDARD
END:VTIMEZONE
END:VCALENDAR
