BEGIN:VCALENDAR
VERSION:2.0
PRODID:-//Plone.org//NONSGML plone.app.event//EN
X-WR-TIMEZONE:Europe/Berlin
BEGIN:VEVENT
SUMMARY:Fora Bolsonaro - Demonstration
DTSTART;TZID=Europe/Berlin;VALUE=DATE-TIME:20210724T130000
DTEND;TZID=Europe/Berlin;VALUE=DATE-TIME:20210724T160000
DTSTAMP;VALUE=DATE-TIME:20260422T073103Z
UID:7b6c37227c0f4512b05bc5888208300c@app-03.tuxwerk.de:8080
CREATED;VALUE=DATE-TIME:20210722T132625Z
DESCRIPTION:Alle auf die Straße für Demokratie und Menschenrechte!\nAlle
  auf die Straße gegen Faschismus und Genozid!\n\nSamstag\, 24.07.21 um 13
  Uhr am Augustinerplatz in Freiburg.
LAST-MODIFIED;VALUE=DATE-TIME:20210722T132854Z
LOCATION:Augustinerplatz Freiburg
URL:https://www.kooperation-brasilien.org/de/veranstaltungen/termine/fora-
 bolsonaro-demonstration
END:VEVENT
BEGIN:VTIMEZONE
TZID:Europe/Berlin
X-LIC-LOCATION:Europe/Berlin
BEGIN:DAYLIGHT
DTSTART;VALUE=DATE-TIME:20210328T030000
TZNAME:CEST
TZOFFSETFROM:+0100
TZOFFSETTO:+0200
END:DAYLIGHT
END:VTIMEZONE
END:VCALENDAR
