BEGIN:VCALENDAR
VERSION:2.0
PRODID:-//Plone.org//NONSGML plone.app.event//EN
X-WR-TIMEZONE:Europe/Berlin
BEGIN:VEVENT
SUMMARY:Finissage der Fotoausstellung "Copa para quem?"
DTSTART;TZID=Europe/Berlin;VALUE=DATE-TIME:20141017T230000
DTEND;TZID=Europe/Berlin;VALUE=DATE-TIME:20141018T030000
DTSTAMP;VALUE=DATE-TIME:20260419T184951Z
UID:a95ca0e690501abe1c8c660d4325a791@app-03.tuxwerk.de:8080
CATEGORIES:Stadt,WM und Olympia
CREATED;VALUE=DATE-TIME:20200429T182759Z
DESCRIPTION:Mit Vortrag von Phyllis Bußler (Regionalwissenschaftlerin und
  langjähriges Mitglied\n
LAST-MODIFIED;VALUE=DATE-TIME:20200429T182759Z
LOCATION:Bonner Altamerika-Sammlung (BASA) – Oxfordstr. 15 – Bonn
URL:https://www.kooperation-brasilien.org/de/veranstaltungen/termine/finis
 sage-der-fotoausstellung-copa-para-quem
END:VEVENT
BEGIN:VTIMEZONE
TZID:Europe/Berlin
X-LIC-LOCATION:Europe/Berlin
BEGIN:DAYLIGHT
DTSTART;VALUE=DATE-TIME:20140330T030000
TZNAME:CEST
TZOFFSETFROM:+0100
TZOFFSETTO:+0200
END:DAYLIGHT
END:VTIMEZONE
END:VCALENDAR
