BEGIN:VCALENDAR
VERSION:2.0
PRODID:-//Plone.org//NONSGML plone.app.event//EN
X-WR-TIMEZONE:Europe/Berlin
BEGIN:VEVENT
SUMMARY:Filmvorführung mit Davi Kopenawa
DTSTART;TZID=Europe/Berlin;VALUE=DATE-TIME:20240919T190000
DTSTAMP;VALUE=DATE-TIME:20260422T193612Z
UID:1967d30acc4b4d37a2fe89edfdca92bf@app-03.tuxwerk.de:8080
CONTACT:https://spore-initiative.org/de/programm-in-berlin/besuchen-und-mi
 tmachen/spore-hosts-ein-abend-mit-davi-kopenawa-yanomami
CREATED;VALUE=DATE-TIME:20240909T102009Z
DESCRIPTION:Begleitet uns zu einem Abend mit Davi Kopenawa\, einem Indigen
 en Schamanen und Anführer der Yanomami\; Fiona Watson\, die sich seit Jah
 rzehnten für die Rechte indigener Völker einsetzt\;  und Pieter van Eeck
 e\, einem preisgekrönten Filmemacher.
LAST-MODIFIED;VALUE=DATE-TIME:20240909T102038Z
LOCATION:Spore Initiative\, Herrmannstraße 86\, 12051 Berlin
URL:https://www.kooperation-brasilien.org/de/veranstaltungen/termine/filmv
 orfuehrung-mit-davi-kopenawa
END:VEVENT
BEGIN:VTIMEZONE
TZID:Europe/Berlin
X-LIC-LOCATION:Europe/Berlin
BEGIN:DAYLIGHT
DTSTART;VALUE=DATE-TIME:20240331T030000
TZNAME:CEST
TZOFFSETFROM:+0100
TZOFFSETTO:+0200
END:DAYLIGHT
END:VTIMEZONE
END:VCALENDAR
