BEGIN:VCALENDAR
VERSION:2.0
PRODID:-//Plone.org//NONSGML plone.app.event//EN
X-WR-TIMEZONE:Europe/Berlin
BEGIN:VEVENT
SUMMARY:Filmtour: "AGROkalypse - Der  Tag\, an dem das Gensoja kam"
DTSTART;TZID=Europe/Berlin;VALUE=DATE-TIME:20160731T160000
DTEND;TZID=Europe/Berlin;VALUE=DATE-TIME:20160731T173000
DTSTAMP;VALUE=DATE-TIME:20260425T210007Z
UID:af5ff49d472077917b4e06c076631165@app-03.tuxwerk.de:8080
CONTACT:Marco Keller\, vertrieb@coreoperation.de
CREATED;VALUE=DATE-TIME:20200429T182749Z
DESCRIPTION:Seit 17.Juni 2016 bundesweit im Programm! Viele weitere Termin
 e in Kürze oder auf Anfrage. Für die Filmtour mit Regiesseurgespräch si
 nd noch Terminanfragen für September\, Ende November / Anfang Dezember\, 
 sowie Januar 2017 möglich.
LAST-MODIFIED;VALUE=DATE-TIME:20200429T182749Z
LOCATION:Osnabrück
URL:https://www.kooperation-brasilien.org/de/veranstaltungen/termine/filmt
 our-agrokalypse-der-tag-an-dem-das-gensoja-kam
END:VEVENT
BEGIN:VTIMEZONE
TZID:Europe/Berlin
X-LIC-LOCATION:Europe/Berlin
BEGIN:DAYLIGHT
DTSTART;VALUE=DATE-TIME:20160327T030000
TZNAME:CEST
TZOFFSETFROM:+0100
TZOFFSETTO:+0200
END:DAYLIGHT
END:VTIMEZONE
END:VCALENDAR
