BEGIN:VCALENDAR
VERSION:2.0
PRODID:-//Plone.org//NONSGML plone.app.event//EN
X-WR-TIMEZONE:Europe/Berlin
BEGIN:VEVENT
SUMMARY:Filmtour: "AGROkalypse - Der  Tag\, an dem das Gensoja kam"
DTSTART;TZID=Europe/Berlin;VALUE=DATE-TIME:20160802T003000
DTEND;TZID=Europe/Berlin;VALUE=DATE-TIME:20160802T020000
DTSTAMP;VALUE=DATE-TIME:20260422T063014Z
UID:280a718647cb1620030235a80145f717@app-03.tuxwerk.de:8080
CONTACT:Marco Keller\, vertrieb@coreoperation.de
CREATED;VALUE=DATE-TIME:20200429T182751Z
DESCRIPTION:Ein Film von Marco Keller\n\nSeit 17.Juni 2016 bundesweit im P
 rogramm! Viele weitere Termine in Kürze oder auf Anfrage. Für die Filmto
 ur mit Regiesseurgespräch sind noch Terminanfragen für September\, Ende 
 November / Anfang Dezember\, sowie Januar 2017 möglich.\n\n
LAST-MODIFIED;VALUE=DATE-TIME:20200429T182751Z
LOCATION:Dortmund
URL:https://www.kooperation-brasilien.org/de/veranstaltungen/termine/filmt
 our-agrokalypse-der-tag-an-dem-das-gensoja-kam-1
END:VEVENT
BEGIN:VTIMEZONE
TZID:Europe/Berlin
X-LIC-LOCATION:Europe/Berlin
BEGIN:DAYLIGHT
DTSTART;VALUE=DATE-TIME:20160327T030000
TZNAME:CEST
TZOFFSETFROM:+0100
TZOFFSETTO:+0200
END:DAYLIGHT
END:VTIMEZONE
END:VCALENDAR
