BEGIN:VCALENDAR
VERSION:2.0
PRODID:-//Plone.org//NONSGML plone.app.event//EN
X-WR-TIMEZONE:Europe/Berlin
BEGIN:VEVENT
SUMMARY:Film: We don't like Samba
DTSTART;TZID=Europe/Berlin;VALUE=DATE-TIME:20150612T000000
DTEND;TZID=Europe/Berlin;VALUE=DATE-TIME:20150612T022000
DTSTAMP;VALUE=DATE-TIME:20260423T170632Z
UID:c62fa194c903896f8b0baa8b2df95543@app-03.tuxwerk.de:8080
CREATED;VALUE=DATE-TIME:20200429T182746Z
DESCRIPTION:Auftaktfilm des II festival de cine latinoamericano  independi
 ente in Bonn.
LAST-MODIFIED;VALUE=DATE-TIME:20200429T182746Z
LOCATION:Bonn
URL:https://www.kooperation-brasilien.org/de/veranstaltungen/termine/film-
 we-dont-like-samba
END:VEVENT
BEGIN:VTIMEZONE
TZID:Europe/Berlin
X-LIC-LOCATION:Europe/Berlin
BEGIN:DAYLIGHT
DTSTART;VALUE=DATE-TIME:20150329T030000
TZNAME:CEST
TZOFFSETFROM:+0100
TZOFFSETTO:+0200
END:DAYLIGHT
END:VTIMEZONE
END:VCALENDAR
