BEGIN:VCALENDAR
VERSION:2.0
PRODID:-//Plone.org//NONSGML plone.app.event//EN
X-WR-TIMEZONE:Europe/Berlin
BEGIN:VEVENT
SUMMARY:Film "Querência / Heimkehren"
DTSTART;TZID=Europe/Berlin;VALUE=DATE-TIME:20191120T221500
DTEND;TZID=Europe/Berlin;VALUE=DATE-TIME:20191123T210000
DTSTAMP;VALUE=DATE-TIME:20260423T032046Z
UID:d5b95b0a9ac3a38ef1d6d3c0ea2ab1d1@app-03.tuxwerk.de:8080
CREATED;VALUE=DATE-TIME:20200429T182739Z
DESCRIPTION:Kinostart in Anwesenheit des Regisseurs Helvécio Marins Jr.
LAST-MODIFIED;VALUE=DATE-TIME:20200429T182739Z
LOCATION:Frankfurt\, Köln\, Hamburg\, Berlin
URL:https://www.kooperation-brasilien.org/de/veranstaltungen/termine/film-
 querencia-heimkehren
END:VEVENT
BEGIN:VTIMEZONE
TZID:Europe/Berlin
X-LIC-LOCATION:Europe/Berlin
BEGIN:STANDARD
DTSTART;VALUE=DATE-TIME:20191027T020000
TZNAME:CET
TZOFFSETFROM:+0200
TZOFFSETTO:+0100
END:STANDARD
END:VTIMEZONE
END:VCALENDAR
