BEGIN:VCALENDAR
VERSION:2.0
PRODID:-//Plone.org//NONSGML plone.app.event//EN
X-WR-TIMEZONE:Europe/Berlin
BEGIN:VEVENT
SUMMARY:Film: "Meer des Pilgers Antonio"
DTSTART;TZID=Europe/Berlin;VALUE=DATE-TIME:20161127T150000
DTEND;TZID=Europe/Berlin;VALUE=DATE-TIME:20161127T170000
DTSTAMP;VALUE=DATE-TIME:20260420T004436Z
UID:1b37017bd64d8d23229f2aae9f30edfd@app-03.tuxwerk.de:8080
CREATED;VALUE=DATE-TIME:20200429T182736Z
DESCRIPTION:\n\nDas Meer des Pilgers Antonio erzählt die berührende Gesc
 hichte von Canudos\, eine versunkene Stadt im dürren Landesinnern Nordost
 brasiliens. Einst utopischer Freistaat heimatloser Indianer und geflüchte
 ter Sklaven in einer von langwierigen Dürren heimgesuchten\, abgelegenen 
 Gegend\, wurde die Stadt dreimal vom Erdboden ausradiert\, doch weigert si
 ch noch immer zu verschwinden. Nobelpreisträger Mario Vargas Llosa basier
 te auf diese Geschichte seinen Roman Der Krieg am Ende der Welt.
LAST-MODIFIED;VALUE=DATE-TIME:20200429T182736Z
LOCATION:Köln
URL:https://www.kooperation-brasilien.org/de/veranstaltungen/termine/film-
 meer-des-pilgers-antonio
END:VEVENT
BEGIN:VTIMEZONE
TZID:Europe/Berlin
X-LIC-LOCATION:Europe/Berlin
BEGIN:STANDARD
DTSTART;VALUE=DATE-TIME:20161030T020000
TZNAME:CET
TZOFFSETFROM:+0200
TZOFFSETTO:+0100
END:STANDARD
END:VTIMEZONE
END:VCALENDAR
