BEGIN:VCALENDAR
VERSION:2.0
PRODID:-//Plone.org//NONSGML plone.app.event//EN
X-WR-TIMEZONE:Europe/Berlin
BEGIN:VEVENT
SUMMARY:Film + Gespräch: Por la Tierra - Im Namen der Erde
DTSTART;TZID=Europe/Berlin;VALUE=DATE-TIME:20251119T180000
DTEND;TZID=Europe/Berlin;VALUE=DATE-TIME:20251119T200000
DTSTAMP;VALUE=DATE-TIME:20260423T195529Z
UID:b5a2d52db4e3441c93a4b2b53783e2ac@app-03.tuxwerk.de:8080
CATEGORIES:Ernährungssouveränität,Soja,Agrarindustrie
CONTACT:https://www.fdcl.org/event/por-la-tierra-im-namen-der-erde/
CREATED;VALUE=DATE-TIME:20251112T111922Z
DESCRIPTION:Eine Veranstaltung des European Center for Constitutional and 
 Human Rights und Kooperationspartnern
LAST-MODIFIED;VALUE=DATE-TIME:20251210T143344Z
LOCATION:Aquarium | Skalitzer Straße 6 | 10999 Berlin
URL:https://www.kooperation-brasilien.org/de/veranstaltungen/termine/film-
 gespraech-por-la-tierra-im-namen-der-erde
END:VEVENT
BEGIN:VTIMEZONE
TZID:Europe/Berlin
X-LIC-LOCATION:Europe/Berlin
BEGIN:STANDARD
DTSTART;VALUE=DATE-TIME:20251026T020000
TZNAME:CET
TZOFFSETFROM:+0200
TZOFFSETTO:+0100
END:STANDARD
END:VTIMEZONE
END:VCALENDAR
