BEGIN:VCALENDAR
VERSION:2.0
PRODID:-//Plone.org//NONSGML plone.app.event//EN
X-WR-TIMEZONE:Europe/Berlin
BEGIN:VEVENT
SUMMARY:Film & Diskussion: Cidadão Boilesen
DTSTART;TZID=Europe/Berlin;VALUE=DATE-TIME:20150604T230000
DTEND;TZID=Europe/Berlin;VALUE=DATE-TIME:20150605T024500
DTSTAMP;VALUE=DATE-TIME:20260420T163314Z
UID:b77161ff88cd71e0d008ab1927e11d20@app-03.tuxwerk.de:8080
CREATED;VALUE=DATE-TIME:20200429T182731Z
DESCRIPTION:Ein Dokumentarfilm von Chaim Litewski mit anschließender Disk
 ussion mit dem deutsch-brasilianischen Soziologen Dr. Luiz Ramalho und dem
  Journalisten Christian Russau (von der Initiative Nunca Mais - Nie wieder
 )
LAST-MODIFIED;VALUE=DATE-TIME:20200429T182731Z
LOCATION:Berlin
URL:https://www.kooperation-brasilien.org/de/veranstaltungen/termine/film-
 diskussion-cidadao-boilesen
END:VEVENT
BEGIN:VTIMEZONE
TZID:Europe/Berlin
X-LIC-LOCATION:Europe/Berlin
BEGIN:DAYLIGHT
DTSTART;VALUE=DATE-TIME:20150329T030000
TZNAME:CEST
TZOFFSETFROM:+0100
TZOFFSETTO:+0200
END:DAYLIGHT
END:VTIMEZONE
END:VCALENDAR
