BEGIN:VCALENDAR
VERSION:2.0
PRODID:-//Plone.org//NONSGML plone.app.event//EN
X-WR-TIMEZONE:Europe/Berlin
BEGIN:VEVENT
SUMMARY:[Film] Die Krise im brasilianischen Gefängnissystem
DTSTART;TZID=Europe/Berlin;VALUE=DATE-TIME:20170328T230000
DTEND;TZID=Europe/Berlin;VALUE=DATE-TIME:20170329T015000
DTSTAMP;VALUE=DATE-TIME:20260422T205844Z
UID:570bdc7d91e8538890b4b63e0802279f@app-03.tuxwerk.de:8080
CREATED;VALUE=DATE-TIME:20200429T182729Z
DESCRIPTION:Film „Ohne Mitleid\, ohne Strafe“\n\nDer Film untersucht d
 as prekäre Leben in den brasilianischen Haftanstalten und erzählt über 
 Ängste\, Vorurteile und Verschulden. Bestürzend.
LAST-MODIFIED;VALUE=DATE-TIME:20200429T182729Z
URL:https://www.kooperation-brasilien.org/de/veranstaltungen/termine/film-
 die-krise-im-brasilianischen-gefaengnissystem
END:VEVENT
BEGIN:VTIMEZONE
TZID:Europe/Berlin
X-LIC-LOCATION:Europe/Berlin
BEGIN:DAYLIGHT
DTSTART;VALUE=DATE-TIME:20170326T030000
TZNAME:CEST
TZOFFSETFROM:+0100
TZOFFSETTO:+0200
END:DAYLIGHT
END:VTIMEZONE
END:VCALENDAR
