BEGIN:VCALENDAR
VERSION:2.0
PRODID:-//Plone.org//NONSGML plone.app.event//EN
X-WR-TIMEZONE:Europe/Berlin
BEGIN:VEVENT
SUMMARY:Film: Count Down am Xingú IV
DTSTART;TZID=Europe/Berlin;VALUE=DATE-TIME:20141014T233000
DTEND;TZID=Europe/Berlin;VALUE=DATE-TIME:20141015T020000
DTSTAMP;VALUE=DATE-TIME:20260423T171500Z
UID:cadc0885ba7aade587f1dcebd424242d@app-03.tuxwerk.de:8080
CATEGORIES:Menschenrechte und Gesellschaft,Belo Monte,Soziale Bewegungen,L
 andkonflikte und Umwelt,Energie
CREATED;VALUE=DATE-TIME:20200429T182726Z
DESCRIPTION:Am 14.Oktober ab 19:30 Uhr ist der Film "Count Down am Xingú 
 IV" von Martin Kessler im Naxos-Kino in Frankfurt am Main
LAST-MODIFIED;VALUE=DATE-TIME:20200429T182726Z
LOCATION:Frankfurt am Main
URL:https://www.kooperation-brasilien.org/de/veranstaltungen/termine/film-
 count-down-am-xingu-iv
END:VEVENT
BEGIN:VTIMEZONE
TZID:Europe/Berlin
X-LIC-LOCATION:Europe/Berlin
BEGIN:DAYLIGHT
DTSTART;VALUE=DATE-TIME:20140330T030000
TZNAME:CEST
TZOFFSETFROM:+0100
TZOFFSETTO:+0200
END:DAYLIGHT
END:VTIMEZONE
END:VCALENDAR
