BEGIN:VCALENDAR
VERSION:2.0
PRODID:-//Plone.org//NONSGML plone.app.event//EN
X-WR-TIMEZONE:Europe/Berlin
BEGIN:VEVENT
SUMMARY:Eröffnung Fotoausstellung  „Brasilien – Facetten eines Landes
 “
DTSTART;TZID=Europe/Berlin;VALUE=DATE-TIME:20161107T200000
DTEND;TZID=Europe/Berlin;VALUE=DATE-TIME:20161107T213000
DTSTAMP;VALUE=DATE-TIME:20260423T120528Z
UID:056a10b7de98e50fca68e049e193d290@app-03.tuxwerk.de:8080
CONTACT:Brasilieninitiative Freiburg e.V.\, tatu@brasilieninitiative.de
CREATED;VALUE=DATE-TIME:20200429T182656Z
DESCRIPTION:Die Brasilieninitiative Freiburg e.V. lädt ein zur Eröffnung
  der Fotoausstellung „Brasilien – Facetten eines Landes“  - 7.11.201
 6 um 18.00 Uhr.
LAST-MODIFIED;VALUE=DATE-TIME:20200429T182656Z
LOCATION:Freiburg
URL:https://www.kooperation-brasilien.org/de/veranstaltungen/termine/eroef
 fnung-fotoausstellung-201ebrasilien-2013-facetten-eines-landes201c
END:VEVENT
BEGIN:VTIMEZONE
TZID:Europe/Berlin
X-LIC-LOCATION:Europe/Berlin
BEGIN:STANDARD
DTSTART;VALUE=DATE-TIME:20161030T020000
TZNAME:CET
TZOFFSETFROM:+0200
TZOFFSETTO:+0100
END:STANDARD
END:VTIMEZONE
END:VCALENDAR
