BEGIN:VCALENDAR
VERSION:2.0
PRODID:-//Plone.org//NONSGML plone.app.event//EN
X-WR-TIMEZONE:Europe/Berlin
BEGIN:VEVENT
SUMMARY:Ernährung global sichern?! Gestern – heute – morgen
DTSTART;TZID=Europe/Berlin;VALUE=DATE-TIME:20221110T190000
DTEND;TZID=Europe/Berlin;VALUE=DATE-TIME:20221110T203000
DTSTAMP;VALUE=DATE-TIME:20260423T104112Z
UID:f5d8eb1cd32d4241a3edad74b278464f@app-03.tuxwerk.de:8080
CREATED;VALUE=DATE-TIME:20221107T114212Z
DESCRIPTION:Donnerstag\, 10. November 2022\,\n19.00 – bis 20.30 Uhr\nOnl
 ine-Talk in der Reihe Ruhr Global\nAnmeldung: https://us02web.zoom.us/webi
 nar/register/WN_dyQKVnGkSCmD8vrkadVasA
LAST-MODIFIED;VALUE=DATE-TIME:20221108T083245Z
LOCATION:Zoom (digital)
URL:https://www.kooperation-brasilien.org/de/veranstaltungen/termine/ernae
 hrung-global-sichern-gestern-heute-morgen
END:VEVENT
BEGIN:VTIMEZONE
TZID:Europe/Berlin
X-LIC-LOCATION:Europe/Berlin
BEGIN:STANDARD
DTSTART;VALUE=DATE-TIME:20221030T020000
TZNAME:CET
TZOFFSETFROM:+0200
TZOFFSETTO:+0100
END:STANDARD
END:VTIMEZONE
END:VCALENDAR
