BEGIN:VCALENDAR
VERSION:2.0
PRODID:-//Plone.org//NONSGML plone.app.event//EN
X-WR-TIMEZONE:Europe/Berlin
BEGIN:VEVENT
SUMMARY:Erinnerungskultur und Gerechtigkeit in Brasilien
DTSTART;TZID=Europe/Berlin;VALUE=DATE-TIME:20151027T210000
DTEND;TZID=Europe/Berlin;VALUE=DATE-TIME:20151027T230000
DTSTAMP;VALUE=DATE-TIME:20260423T032751Z
UID:950e062b83be0f70dfb5b243c62f2b13@app-03.tuxwerk.de:8080
CREATED;VALUE=DATE-TIME:20200429T182653Z
DESCRIPTION:Mit Fernanda Pradal und Vera Paiva. Moderation Sara Fremberg
LAST-MODIFIED;VALUE=DATE-TIME:20200429T182653Z
LOCATION:Berlin
URL:https://www.kooperation-brasilien.org/de/veranstaltungen/termine/erinn
 erungskultur-und-gerechtigkeit-in-brasilien
END:VEVENT
BEGIN:VTIMEZONE
TZID:Europe/Berlin
X-LIC-LOCATION:Europe/Berlin
BEGIN:STANDARD
DTSTART;VALUE=DATE-TIME:20151025T020000
TZNAME:CET
TZOFFSETFROM:+0200
TZOFFSETTO:+0100
END:STANDARD
END:VTIMEZONE
END:VCALENDAR
